BEGIN:VCALENDAR
VERSION:2.0
PRODID:-//Public Grave - ECPv6.15.17.1//NONSGML v1.0//EN
CALSCALE:GREGORIAN
METHOD:PUBLISH
X-WR-CALNAME:Public Grave
X-ORIGINAL-URL:https://publicgrave.de
X-WR-CALDESC:Events for Public Grave
REFRESH-INTERVAL;VALUE=DURATION:PT1H
X-Robots-Tag:noindex
X-PUBLISHED-TTL:PT1H
BEGIN:VTIMEZONE
TZID:Europe/Berlin
BEGIN:DAYLIGHT
TZOFFSETFROM:+0100
TZOFFSETTO:+0200
TZNAME:CEST
DTSTART:20160327T010000
END:DAYLIGHT
BEGIN:STANDARD
TZOFFSETFROM:+0200
TZOFFSETTO:+0100
TZNAME:CET
DTSTART:20161030T010000
END:STANDARD
BEGIN:DAYLIGHT
TZOFFSETFROM:+0100
TZOFFSETTO:+0200
TZNAME:CEST
DTSTART:20170326T010000
END:DAYLIGHT
BEGIN:STANDARD
TZOFFSETFROM:+0200
TZOFFSETTO:+0100
TZNAME:CET
DTSTART:20171029T010000
END:STANDARD
BEGIN:DAYLIGHT
TZOFFSETFROM:+0100
TZOFFSETTO:+0200
TZNAME:CEST
DTSTART:20180325T010000
END:DAYLIGHT
BEGIN:STANDARD
TZOFFSETFROM:+0200
TZOFFSETTO:+0100
TZNAME:CET
DTSTART:20181028T010000
END:STANDARD
END:VTIMEZONE
BEGIN:VEVENT
DTSTART;TZID=Europe/Berlin:20170728T190000
DTEND;TZID=Europe/Berlin:20170728T230000
DTSTAMP:20260420T001504
CREATED:20170701T054400Z
LAST-MODIFIED:20221208T142513Z
UID:1360-1501268400-1501282800@publicgrave.de
SUMMARY:Augsburg Amputation Act III
DESCRIPTION:ANALEPSYBrutal / Slam Death Metal\, Portugal \n\n\n\nHuman VivisectionBrutal / Slam Death Metal\, Belgien \n\n\n\nGutFuckBrutal / Slam DeathGrind\, Ulm \n\n\n\nPestilent ReignDeath Metal\, Stuttgart \n\n\n\nLATE NIGHT SPECIAL GUEST:Pighead – OfficialBrutal / Slam Death Metal\, Berlin \n\n\n\nPublic GraveDeath Metal\, München
URL:https://publicgrave.de/event/augsburg-amputation-act-iii/
LOCATION:Ballonfabrik Augsburg\, Austraße 27\, Augsburg\, 86153\, Germany
ATTACH;FMTTYPE=image/jpeg:https://publicgrave.de/wp-content/uploads/2022/12/aaa3.jpg
END:VEVENT
END:VCALENDAR