BEGIN:VCALENDAR
VERSION:2.0
PRODID:-//Public Grave - ECPv6.15.17.1//NONSGML v1.0//EN
CALSCALE:GREGORIAN
METHOD:PUBLISH
X-WR-CALNAME:Public Grave
X-ORIGINAL-URL:https://publicgrave.de
X-WR-CALDESC:Events for Public Grave
REFRESH-INTERVAL;VALUE=DURATION:PT1H
X-Robots-Tag:noindex
X-PUBLISHED-TTL:PT1H
BEGIN:VTIMEZONE
TZID:Europe/Berlin
BEGIN:DAYLIGHT
TZOFFSETFROM:+0100
TZOFFSETTO:+0200
TZNAME:CEST
DTSTART:20150329T010000
END:DAYLIGHT
BEGIN:STANDARD
TZOFFSETFROM:+0200
TZOFFSETTO:+0100
TZNAME:CET
DTSTART:20151025T010000
END:STANDARD
BEGIN:DAYLIGHT
TZOFFSETFROM:+0100
TZOFFSETTO:+0200
TZNAME:CEST
DTSTART:20160327T010000
END:DAYLIGHT
BEGIN:STANDARD
TZOFFSETFROM:+0200
TZOFFSETTO:+0100
TZNAME:CET
DTSTART:20161030T010000
END:STANDARD
BEGIN:DAYLIGHT
TZOFFSETFROM:+0100
TZOFFSETTO:+0200
TZNAME:CEST
DTSTART:20170326T010000
END:DAYLIGHT
BEGIN:STANDARD
TZOFFSETFROM:+0200
TZOFFSETTO:+0100
TZNAME:CET
DTSTART:20171029T010000
END:STANDARD
END:VTIMEZONE
BEGIN:VEVENT
DTSTART;TZID=Europe/Berlin:20161015T190000
DTEND;TZID=Europe/Berlin:20161016T020000
DTSTAMP:20260420T141206
CREATED:20161001T060900Z
LAST-MODIFIED:20221208T142447Z
UID:1339-1476558000-1476583200@publicgrave.de
SUMMARY:Schlachtfest #1
DESCRIPTION:Das Schlachtfest im Schlachthof!!!!Death-Metal Abend mit Bands von Memmingen bis München! \n\n\n\nWir haben für euch folgende Bands: \n\n\n\nCombustioncombustionmetal.com \n\n\n\nPublic Gravewww.publicgrave.de \n\n\n\nIndestructiblefacebook.com/IndestructibleOfficial \n\n\n\nDaisy Cutterfacebook.com/daisycutterdeathmetal \n\n\n\nEintritt 5 EuroEinlass 19:00Stage 19:30Bis 02:00 Aftershow-Party!
URL:https://publicgrave.de/event/schlachtfest-1/
LOCATION:Subkultur\, Auf der Lände 7\, Fürstenfeldbruck\, 82256\, Germany
ATTACH;FMTTYPE=image/jpeg:https://publicgrave.de/wp-content/uploads/2022/12/sf1.jpg
END:VEVENT
END:VCALENDAR